BEGIN:VCALENDAR
VERSION:2.0
PRODID:-//eventon.com NONSGML v1.0//EN
CALSCALE:GREGORIAN
METHOD:PUBLISH
BEGIN:VEVENT
UID:69ea632d11cd9
DTSTAMP:20260423T182133Z
DTSTART:20210625T170000Z
DTEND:20210625T180000Z
LOCATION:https://form.jotform.com/211645306503144
SUMMARY:Mental Health and the Criminal Justice System
DESCRIPTION:Join ISPS for a conversation about how mental health and the cr
 iminal justice system are connected\,  including the policies\,  programs\,
   and services.\nhttps://isps.spcollege.edu/events/mental-health-and-the-cr
 iminal-justice-system/var/event_access
URL:https://isps.spcollege.edu/events/mental-health-and-the-criminal-justice-system/var/event_access
END:VEVENT
END:VCALENDAR