BEGIN:VCALENDAR
VERSION:2.0
PRODID:-//eventon.com NONSGML v1.0//EN
CALSCALE:GREGORIAN
METHOD:PUBLISH
BEGIN:VEVENT
UID:69ed74f4757d1
DTSTAMP:20260426T021412Z
DTSTART:20221012T220000Z
DTEND:20221012T230000Z
LOCATION:Leepa Rattner Museum of Art 600 E Klosterman Rd\,  Tarpon Springs\,  FL 34689-1299
SUMMARY:The Business of Art
DESCRIPTION:Leepa-Rattner Museum of Art at the SPC Tarpon Springs Campus 60
 0 E Klosterman Rd\,  Tarpon Springs\,  FL 34689 Join ISPS\,  the Tarpon Spr
 ings Chamber of Commerce\,  the Leepa-Rattner Museum of Art\,  and communit
 y stakeholders as we discuss the intersections of art\,  workforce\,  and b
 usiness development.\nhttps://isps.spcollege.edu/events/the-business-of-art
 /
URL:https://isps.spcollege.edu/events/the-business-of-art/
END:VEVENT
END:VCALENDAR