BEGIN:VCALENDAR
VERSION:2.0
PRODID:-//eventon.com NONSGML v1.0//EN
CALSCALE:GREGORIAN
METHOD:PUBLISH
BEGIN:VEVENT
UID:69eb0f71650d8
DTSTAMP:20260424T063633Z
DTSTART:20220718T220000Z
DTEND:20220719T000000Z
LOCATION:SPC Clearwater Campus Auditorium 2465 Drew Street\,  Clearwater\,  FL 33765
SUMMARY:Pinellas County School Board 2022 Candidates Forum
DESCRIPTION:Residents of Pinellas County are invited to attend this importa
 nt event before casting their vote to learn more about the candidates’ po
 sitions. Please join us for this especially important\,  non-partisan civic
  event! The Primary is August 23rd &#8211; VOTE! Location: SPC Clearwater C
 ampus Auditorium2465 Drew St\,  Clearwater\,  FL 33765 Resources[..]\nhttps
 ://isps.spcollege.edu/events/pinellas-county-school-board-2022-candidates-f
 orum/
URL:https://isps.spcollege.edu/events/pinellas-county-school-board-2022-candidates-forum/
END:VEVENT
END:VCALENDAR