BEGIN:VCALENDAR
VERSION:2.0
PRODID:-//eventon.com NONSGML v1.0//EN
CALSCALE:GREGORIAN
METHOD:PUBLISH
BEGIN:VEVENT
UID:69ed171ee72db
DTSTAMP:20260425T193350Z
DTSTART:20211019T220000Z
DTEND:20211019T230000Z
LOCATION:Tarpon Springs Distillery 605 N Pinellas Ave\,  Tarpon Springs\,  FL 34689
SUMMARY:The Minimum Wage and Florida's Businesses
DESCRIPTION:Small business leaders will discuss the minimum wage and how re
 cruiting and retaining the workforce has changed in 2021. Tarpon Springs Di
 stillery605 N Pinellas Ave\,  Tarpon Springs\,  FL 34689\nhttps://isps.spco
 llege.edu/events/the-minimum-wage-and-floridas-businesses/
URL:https://isps.spcollege.edu/events/the-minimum-wage-and-floridas-businesses/
END:VEVENT
END:VCALENDAR