BEGIN:VCALENDAR
VERSION:2.0
PRODID:-//eventon.com NONSGML v1.0//EN
CALSCALE:GREGORIAN
METHOD:PUBLISH
BEGIN:VEVENT
UID:69ecf37a1f708
DTSTAMP:20260425T170146Z
DTSTART:20260423T213000Z
DTEND:20260423T230000Z
LOCATION:Treasure Island City Hall 10451 Gulf Blvd\,  Treasure Island\,  FL 33706
SUMMARY:2026 State of the Beaches - Mayors' Town Hall
DESCRIPTION:ISPS and the Pinellas Beaches Chamber host a conversation about
  the state on the beaches with several beach mayors. This discussion is mod
 erated by Al Ruechel\,  Former Spectrum News Anchor. Each mayor will have t
 he opportunity to share what is happening in their respective cities. Featu
 red Mayoral Speakers Anne-Marie Brooks\, [..]\nhttps://isps.spcollege.edu/e
 vents/2026-state-of-the-beaches-mayors-town-hall/var/event_access
URL:https://isps.spcollege.edu/events/2026-state-of-the-beaches-mayors-town-hall/var/event_access
END:VEVENT
END:VCALENDAR